BEGIN:VCALENDAR
VERSION:2.0
PRODID:-//The Pearl&#039;s Heart - ECPv5.12.2//NONSGML v1.0//EN
CALSCALE:GREGORIAN
METHOD:PUBLISH
X-WR-CALNAME:The Pearl&#039;s Heart
X-ORIGINAL-URL:https://thepearlsheart.com
X-WR-CALDESC:Events for The Pearl&#039;s Heart
REFRESH-INTERVAL;VALUE=DURATION:PT1H
X-Robots-Tag:noindex
X-PUBLISHED-TTL:PT1H
BEGIN:VTIMEZONE
TZID:UTC
BEGIN:STANDARD
TZOFFSETFROM:+0000
TZOFFSETTO:+0000
TZNAME:UTC
DTSTART:20210101T000000
END:STANDARD
END:VTIMEZONE
BEGIN:VEVENT
DTSTART;TZID=UTC:20220618T130000
DTEND;TZID=UTC:20220618T153000
DTSTAMP:20260422T021205
CREATED:20220610T040039Z
LAST-MODIFIED:20220610T040148Z
UID:1024-1655557200-1655566200@thepearlsheart.com
SUMMARY:Celebrating 5 Years! Brunch at Standard Pour!
DESCRIPTION:#LADIESNIGHTURNS5 !!! The Pearls Heart is honored to celebrate 5 years of gathering and empowering women through our popular Ladies Night events!  \nJoin us for BRUNCH at the Black-Owned and Women-Owned business Standard Pour in Valley Stream\, NY on June 18\, 2022 (Juneteenth Weekend!) @ 1pm!!  \nRSVP to reserve your seat with us!!
URL:https://thepearlsheart.com/event/celebrating-5-years-brunch-at-standard-pour/
LOCATION:standard pour\, New York\, 11581
ATTACH;FMTTYPE=image/png:https://thepearlsheart.com/wp-content/uploads/2022/06/June-18th-Ladies-Night-Brunch.png
END:VEVENT
BEGIN:VEVENT
DTSTART;TZID=UTC:20220318T200000
DTEND;TZID=UTC:20220318T220000
DTSTAMP:20260422T021205
CREATED:20220225T185454Z
LAST-MODIFIED:20220225T190041Z
UID:999-1647633600-1647640800@thepearlsheart.com
SUMMARY:The Virtual Ladies Night - Networking & Empowerment Mixer
DESCRIPTION:It’s our first #LadiesNight of the 2022! In honor of Women’s History Women\, we are hosting a FREE Virtual Networking and Empowerment Mixer!  \nJoin us for some empowerment\, laughs\, and good conversation with like-minded women! \nOur theme is “Better Together”. It’s so important to leverage our community and our networks as we identify and pursue our purpose\, careers\, and businesses!
URL:https://thepearlsheart.com/event/the-virtual-ladies-night-networking-empowerment-mixer/
LOCATION:Zoom
ATTACH;FMTTYPE=image/png:https://thepearlsheart.com/wp-content/uploads/2022/02/Ladies-Night-318-Network-Mixer-3-1.png
END:VEVENT
BEGIN:VEVENT
DTSTART;TZID=UTC:20220120T200000
DTEND;TZID=UTC:20220120T210000
DTSTAMP:20260422T021205
CREATED:20220105T031935Z
LAST-MODIFIED:20220105T031935Z
UID:842-1642708800-1642712400@thepearlsheart.com
SUMMARY:Pearls Trip 2022 Information Session!
DESCRIPTION:Join us as we provide information and details regarding our first every Ladies Getaway\, Pearls Trip 2022 in Montego Bay Jamaica! \n  \nThe Pearl’s Heart has curated our first international trip to Montego Bay\, Jamaica! \nPearls Trip 2022 will take place July 21-25\, 2022 at Jewel Grande Montego Bay Resort & Spa \nThe goal of #PearlsTrip is to gather like-minded women from all walks of life to create an experience that will drift them away from their daily life routines\, and immerse them into a fun filled week of relaxation\, inspiration\, and connection. This trip will give you an opportunity to build new relationships\, learn and be empowered by other women\, and expand your personal and professional community…. And let’s not forget all the fun we will have in the Caribbean Island of Jamaica!!  \n\nJoin our Information Session for full trip details!  \n 
URL:https://thepearlsheart.com/event/pearls-trip-2022-information-session/
LOCATION:Zoom
ATTACH;FMTTYPE=image/jpeg:https://thepearlsheart.com/wp-content/uploads/2021/12/Copy-of-Travel-Tourism-Made-with-PosterMyWall-6.jpg
END:VEVENT
BEGIN:VEVENT
DTSTART;TZID=UTC:20211217T190000
DTEND;TZID=UTC:20211217T220000
DTSTAMP:20260422T021205
CREATED:20220105T023921Z
LAST-MODIFIED:20220105T023921Z
UID:828-1639767600-1639778400@thepearlsheart.com
SUMMARY:Fabulous Friday Night Meet-Up
DESCRIPTION:Join us for a Ladies Night gathering to connect\, converse\, and unwind! \nStandard Pour is a Black-Owned & Women-Owned Coffee Shop located in Valley Stream NY. Meet us there on 12/17/21 7pm-10pm! Bring a friend!
URL:https://thepearlsheart.com/event/fabulous-friday-night-meet-up/
LOCATION:standard pour\, New York\, 11581
ATTACH;FMTTYPE=image/png:https://thepearlsheart.com/wp-content/uploads/2022/01/Copy-of-Fabulous-Friday-Meet-Up.png
END:VEVENT
BEGIN:VEVENT
DTSTART;TZID=UTC:20211022T200000
DTEND;TZID=UTC:20211022T220000
DTSTAMP:20260422T021205
CREATED:20210820T015333Z
LAST-MODIFIED:20220105T024912Z
UID:235-1634932800-1634940000@thepearlsheart.com
SUMMARY:Virtual Ladies Night "Grace Yourself\, Sis"
DESCRIPTION:The Virtual Ladies Night is a space for like-minded women to connect\, share\, and build community! CHEERS to being Amazing LADIES!! \nThe theme for this October’s Ladies Night is “Grace Yourself\, Sis!”. We will be having an open conversation about what it means to have grace for yourself\, and where we as women can show more grace for ourselves as we journey to fulfill purpose and becoming our best selves! \nCan’t wait to see you there! CHEERS!
URL:https://thepearlsheart.com/event/ladies-nights/
LOCATION:Zoom
ATTACH;FMTTYPE=image/png:https://thepearlsheart.com/wp-content/uploads/2021/08/October-22-Ladies-Night-8.png
END:VEVENT
BEGIN:VEVENT
DTSTART;TZID=UTC:20210625T193000
DTEND;TZID=UTC:20210625T223000
DTSTAMP:20260422T021205
CREATED:20210625T071130Z
LAST-MODIFIED:20211118T032308Z
UID:290-1624649400-1624660200@thepearlsheart.com
SUMMARY:Ladies Night "Who Gonna Check Me\, Boo?..My Sis Will!"
DESCRIPTION:Our June Ladies Night was such a great time! We had so many great conversations about our female friendships\, sisterhood\, and accountability! \nHaving solid female friendships is so important on our journey of growth\, healing\, and purpose! Not only should we have good friends\, we should also BE good friends! \nCheers to sisterhood!
URL:https://thepearlsheart.com/event/ladies-night-who-gonna-check-me-boo-my-sis-will/
LOCATION:Zoom
ATTACH;FMTTYPE=image/png:https://thepearlsheart.com/wp-content/uploads/2021/11/Screen-Shot-2021-11-17-at-10.10.31-PM.png
END:VEVENT
BEGIN:VEVENT
DTSTART;TZID=UTC:20210327T123000
DTEND;TZID=UTC:20210327T153000
DTSTAMP:20260422T021205
CREATED:20220105T025749Z
LAST-MODIFIED:20220105T025749Z
UID:837-1616848200-1616859000@thepearlsheart.com
SUMMARY:Coffee & Conversation Meet-Up
DESCRIPTION:Join our Small Group Gathering of Amazing Women as We Connect & Converse over Coffee! \nStandard Pour is a new Black-Owned and Women-Owned Coffee Shop in Valley Stream\, NY! Let’s honor them for Women’s History Month at their establishment as we connect and bond over coffee!
URL:https://thepearlsheart.com/event/coffee-conversation-meet-up/
LOCATION:standard pour\, New York\, 11581
ATTACH;FMTTYPE=image/png:https://thepearlsheart.com/wp-content/uploads/2022/01/Copy-of-Coffee-and-Conversation-Meet-Up.png
END:VEVENT
BEGIN:VEVENT
DTSTART;TZID=UTC:20210326T200000
DTEND;TZID=UTC:20210326T220000
DTSTAMP:20260422T021205
CREATED:20220105T030721Z
LAST-MODIFIED:20220105T030721Z
UID:840-1616788800-1616796000@thepearlsheart.com
SUMMARY:The Virtual Ladies Night - Women's History Month Mixer
DESCRIPTION:Join us at The Virtual Ladies Night! A wonderful opportunity to bond and network with some amazing like-minded women! DJ\, Giveaways\, & more! \nMusic By Elese the DJ! \nGiveways Provided by Pammi’s Tipsy Treats!
URL:https://thepearlsheart.com/event/the-virtual-ladies-night-womens-history-month-mixer/
LOCATION:Zoom
ATTACH;FMTTYPE=image/jpeg:https://thepearlsheart.com/wp-content/uploads/2021/12/IMG_20200203_160619_291-1-e1641357246897.jpg
END:VEVENT
END:VCALENDAR